BEGIN:VCALENDAR
PRODID:-//AT Content Types//AT Event//EN
VERSION:2.0
METHOD:PUBLISH
BEGIN:VEVENT
DTSTAMP:20260422T165922Z
CREATED:20110928T043107Z
UID:ATEvent-9c050bce90fa645c486d9ecec54d53dc
LAST-MODIFIED:20110928T050405Z
SUMMARY:Groundswell - Did they hear you Right?
DTSTART:20111004T170000Z
DTEND:20111004T184500Z
DESCRIPTION:Government agencies responsible for the future planning of
  Redfern and Waterloo have been asking you questions about your commun
 ity and your ideas for its future\, If you want to know what they clai
 med you said and what happens next\, come along to this information se
 ssion with Guest speakers from:‐ Housing NSW Redfern Waterloo Author
 ity City of Sydney & Groundswell Coalition
LOCATION:The Factory Community Centre\, 67 Raglan Street Waterloo NSW
CONTACT:Michael Shreenan\, 9698 9569\, MShreenan@the-factory.org.au
CLASS:PUBLIC
END:VEVENT
END:VCALENDAR
