BEGIN:VCALENDAR
PRODID:-//AT Content Types//AT Event//EN
VERSION:1.0
BEGIN:VEVENT
DTSTART:20111026T210000Z
DTEND:20111027T000000Z
DCREATED:20111018T040342Z
UID:ATEvent-5d5a6c995098a0a3e6ce630bd8aad6cf
SEQUENCE:0
LAST-MODIFIED:20111018T040443Z
SUMMARY:Good Neighbourhood BBQ Waterloo - 26 Oct 5-8pm
DESCRIPTION:Come along and meet your neighbours and learn about what t
 he City of Sydney and local police are doing to improve your neighbour
 hood.
LOCATION:Waterloo Green\, Raglan Street\, Waterloo
PRIORITY:3
TRANSP:0
END:VEVENT
END:VCALENDAR
