BEGIN:VCALENDAR
PRODID:-//AT Content Types//AT Event//EN
VERSION:2.0
METHOD:PUBLISH
BEGIN:VEVENT
DTSTAMP:20260420T074533Z
CREATED:20111031T102950Z
UID:ATEvent-53ef77e9f9e58aa3eeb78e9022785db5
LAST-MODIFIED:20111031T103311Z
SUMMARY:Celebrate & promote Redfern!
DTSTART:20111116T230000Z
DTEND:20111117T003000Z
DESCRIPTION:You are invited to a special event to promote the Redfern 
 area\, to highlight recent achievements and to promote future events. 
 The event\, for both businesses and the community\, will be hosted by 
 the Roll Up Redfern Group.
LOCATION:Redfern Town Hall 73 Pitt St\, Redfern (small hall)
CONTACT:RWA \, 9202 9117\, redfernwaterloo@rwa.nsw.gov.au
CLASS:PUBLIC
END:VEVENT
END:VCALENDAR
