BEGIN:VCALENDAR
PRODID:-//AT Content Types//AT Event//EN
VERSION:2.0
METHOD:PUBLISH
BEGIN:VEVENT
DTSTAMP:20260422T165923Z
CREATED:20111101T065855Z
UID:ATEvent-52fc400a67aaec3f970eb431a17077f4
LAST-MODIFIED:20111101T065905Z
SUMMARY:Looking Forward Looking Back Mental Health Forum
DTSTART:20111117T140000Z
DTEND:20111117T220000Z
DESCRIPTION:This day is suitable for mental health consumers\, carers 
 and service providers.
LOCATION:Redfern Town hall 73 Pitt St Redfern
CONTACT:Inner Sydney Regional Council\, 9698 7690\, admin@innersydneyrcsd.org.au
CLASS:PUBLIC
END:VEVENT
END:VCALENDAR
