BEGIN:VCALENDAR
PRODID:-//AT Content Types//AT Event//EN
VERSION:2.0
METHOD:PUBLISH
BEGIN:VEVENT
DTSTAMP:20260423T125956Z
CREATED:20111018T030517Z
UID:ATEvent-afcb25486fe02d94d6c3ab5e2102b489
LAST-MODIFIED:20111018T032358Z
SUMMARY:Waterloo Summer on the Green – Friday 2nd December 2011 from 2.00pm -6.00pm
DTSTART:20111202T190000Z
DTEND:20111202T230000Z
DESCRIPTION:This year we will be Celebrating the International Year of
  the Rabbit and our events will include Healthy Living information\, a
 n EmploymentExpo and also will be part of the Don’t Dis My Ability C
 ampaign from ADHC.
LOCATION:Waterloo Green area beside the Waterloo High Rises\, corner of Raglan and Cooper Street
CONTACT:Edith Olivares \, 9698 9569\, eolivares@the-factory.org.au
CLASS:PUBLIC
END:VEVENT
END:VCALENDAR
