BEGIN:VCALENDAR
PRODID:-//AT Content Types//AT Event//EN
VERSION:2.0
METHOD:PUBLISH
BEGIN:VEVENT
DTSTAMP:20260421T042310Z
CREATED:20111209T063752Z
UID:ATEvent-7774b22c03116acd92923e9f37b3a3d1
LAST-MODIFIED:20111215T071736Z
SUMMARY:RedWater Markets - Redfern Park - 21 Jan
DTSTART:20120121T130000Z
DTEND:20120121T210000Z
DESCRIPTION:Come to RedWater Markets and look at our selection of Seco
 nd-hand clothes\, books\, recycled goods\, flowers/plants\, food\, han
 d-made goods and support The Factory Community Centre.
LOCATION:Redfern Park corner of Chalmers & Redfern St Redfern
CONTACT:Edith Olivares\, 9698 9569\, eolivares@the-factory.org.au
CLASS:PUBLIC
END:VEVENT
END:VCALENDAR
