BEGIN:VCALENDAR
PRODID:-//AT Content Types//AT Event//EN
VERSION:1.0
BEGIN:VEVENT
DTSTART:20120214T150000Z
DTEND:20120214T150000Z
DCREATED:20111209T063752Z
UID:ATEvent-bb292c2743488ac3f9e46998be3d5710
SEQUENCE:0
LAST-MODIFIED:20111209T065926Z
SUMMARY:Redfern NAB Meeting - February 2012
DESCRIPTION:Neighbourhood Advisory Board (NAB) Meeting for NAB Represe
 ntatives. The Housing Standards meetings for Redfern are held one hour
  before each NAB at 9am.
LOCATION:Our Place\, Poets Corner Shops Morehead Street
PRIORITY:3
TRANSP:0
END:VEVENT
END:VCALENDAR
