BEGIN:VCALENDAR
PRODID:-//AT Content Types//AT Event//EN
VERSION:1.0
BEGIN:VEVENT
DTSTART:20120225T150000Z
DTEND:20120225T210000Z
DCREATED:20111220T051001Z
UID:ATEvent-410404de1e2e5f1b263cd9fe6caf6e99
SEQUENCE:0
LAST-MODIFIED:20120208T005327Z
SUMMARY:ATP Open Day - 25 February 2012
DESCRIPTION:ATP will be a hub of activity for the ATP Open Day on Satu
 rday\, 25 February 2012 with lots of exciting events planned for young
  and old to showcase the Park’s facilities.
LOCATION:Australian Technology Park Eveleigh
PRIORITY:3
TRANSP:0
END:VEVENT
END:VCALENDAR
