BEGIN:VCALENDAR
PRODID:-//AT Content Types//AT Event//EN
VERSION:1.0
BEGIN:VEVENT
DTSTART:20120311T150000Z
DTEND:20120311T180000Z
DCREATED:20120303T071702Z
UID:ATEvent-bf53741fe9d58549d22907d92b0b2ec7
SEQUENCE:0
LAST-MODIFIED:20120303T071714Z
SUMMARY:Good Neighbour BBQ Newtown - Hollis Park 11 March
DESCRIPTION:The City of Sydney and local Police are hosting a series o
 f Good Neighbourhood BBQs
LOCATION:Hollis Park Wilson Street Newtown
PRIORITY:3
TRANSP:0
END:VEVENT
END:VCALENDAR
