BEGIN:VCALENDAR
PRODID:-//AT Content Types//AT Event//EN
VERSION:2.0
METHOD:PUBLISH
BEGIN:VEVENT
DTSTAMP:20260421T044617Z
CREATED:20120223T045653Z
UID:ATEvent-9a2dd8b7ec4365d5a655705faa6ef1af
LAST-MODIFIED:20120223T045729Z
SUMMARY:A City of Sydney Council Community Workshop on Parking in Alexandria
DTSTART:20120331T160000Z
DTEND:20120331T180000Z
DESCRIPTION:Workshop to discuss the City of Sydney's proposal to impro
 ve parking in Alexandria\;  to give an update on recent consultations\
 , what the Council is proposing and the review of the ATP Parking Stud
 y
LOCATION:Alexandria Town Hall\, 73 Garden Street\, Alexandria
CLASS:PUBLIC
END:VEVENT
END:VCALENDAR
