BEGIN:VCALENDAR
PRODID:-//AT Content Types//AT Event//EN
VERSION:1.0
BEGIN:VEVENT
DTSTART:20120405T220000Z
DTEND:20120406T000000Z
DCREATED:20111209T063752Z
UID:ATEvent-244a65a9001e595ba3436a319e00f9c7
SEQUENCE:0
LAST-MODIFIED:20120401T083458Z
SUMMARY:REDWatch Meeting with Council over Redfern Village Directions - 5 Apr 2012
DESCRIPTION:The April REDWatch meeting on Thursday 5 April will focus 
 on City of Sydney's planning for the Redfern Street Village. This will
  be the opportunity after the public workshop on 3 April to meet with 
 Ann Hoban\, Director City Culture & Community and Kate Read\, Strategy
  Advisor Village Planning to discuss what Council should be considerin
 g in their planning for our village cluster.
LOCATION:The Factory Community Centre\, 67 Raglan Street Waterloo NSW
PRIORITY:3
TRANSP:0
END:VEVENT
END:VCALENDAR
