BEGIN:VCALENDAR
PRODID:-//AT Content Types//AT Event//EN
VERSION:2.0
METHOD:PUBLISH
BEGIN:VEVENT
DTSTAMP:20260424T145320Z
CREATED:20120424T011546Z
UID:ATEvent-cfaeca104391dc4db6a9ba0796187648
LAST-MODIFIED:20120424T011600Z
SUMMARY:DA's 101 for Small Business
DTSTART:20120502T133000Z
DTEND:20120502T160000Z
DESCRIPTION:Through case studies and high level speakers DAs 101 will 
 present useful advice on getting through the application process from 
 start to finish.
LOCATION:Barnet Long Room\, Customs House 31 Alfred Street Circular Quay
CONTACT:Suzie Matthews
URL:http://www.cityofsydney.nsw.gov.au/Business/CityEconomy/101Workshops.asp
CLASS:PUBLIC
END:VEVENT
END:VCALENDAR
