BEGIN:VCALENDAR
PRODID:-//AT Content Types//AT Event//EN
VERSION:1.0
BEGIN:VEVENT
DTSTART:20120503T220000Z
DTEND:20120504T000000Z
DCREATED:20111209T063752Z
UID:ATEvent-6d4a2d0d4a89f6fef22c20529eb4b107
SEQUENCE:0
LAST-MODIFIED:20120501T081150Z
SUMMARY:REDWatch Monthly Meeting - 3 May 2012
DESCRIPTION:REDWatch meets on the first Thursday of the Month from 6-8
 pm. This month the focus will be a celebration of the successful colle
 ction of 10,000 signatures for the Lift Redfern Petition. Details belo
 w:
LOCATION:The Factory Community Centre\, 67 Raglan Street Waterloo NSW
PRIORITY:3
TRANSP:0
END:VEVENT
END:VCALENDAR
