BEGIN:VCALENDAR
PRODID:-//AT Content Types//AT Event//EN
VERSION:2.0
METHOD:PUBLISH
BEGIN:VEVENT
DTSTAMP:20260422T134011Z
CREATED:20111209T063752Z
UID:ATEvent-639c0809b95453b981bb5d6125e1d94e
LAST-MODIFIED:20111209T064922Z
SUMMARY:Waterloo NAB Meeting - 5th June 2012 - Housing Standards
DTSTART:20120605T190000Z
DTEND:20120605T200000Z
DESCRIPTION:Monthly Neighbourhood Advisory Board (NAB) Meeting for NAB
  Representatives
LOCATION:Neighbourhood Centre\, Wellington St Shops
CONTACT:Edith Olivares\, 9698 9569\, eolivares@the-factory.org.au
CLASS:PUBLIC
END:VEVENT
END:VCALENDAR
