BEGIN:VCALENDAR
PRODID:-//AT Content Types//AT Event//EN
VERSION:1.0
BEGIN:VEVENT
DTSTART:20120705T220000Z
DTEND:20120706T000000Z
DCREATED:20111209T063752Z
UID:ATEvent-706103ee2b91073421bcccd5cd3a0ee1
SEQUENCE:0
LAST-MODIFIED:20120703T071902Z
SUMMARY:REDWatch Monthly Meeting - 5 Jul 2012 on Community Engagement
DESCRIPTION:REDWatch meets on the first Thursday of the Month from 6-8
 pm. This month REDWatch is having a round Table on “Beyond the tick 
 box - community engagement we can believe in”. For this roundtable w
 e will be joined by three guest participants to input from their speci
 alties: Evette Andrews - Manager\, Strategy Community Consultation - C
 ity Of Sydney\; Dare Kavanagh - Project Manager- Community Building HN
 SW / DFS Major Projects\; and Dallas Rogers - Research Fellow\, School
  of Social Sciences and Psychology UWS.
LOCATION:The Factory Community Centre\, 67 Raglan Street Waterloo NSW
PRIORITY:3
TRANSP:0
END:VEVENT
END:VCALENDAR
