BEGIN:VCALENDAR
PRODID:-//AT Content Types//AT Event//EN
VERSION:1.0
BEGIN:VEVENT
DTSTART:20120718T103000Z
DTEND:20120718T123000Z
DCREATED:20120716T045002Z
UID:ATEvent-744f644e5183e004925ab7a14912943f
SEQUENCE:0
LAST-MODIFIED:20120716T045012Z
SUMMARY:Living Sydney Redfern Meeting
DESCRIPTION:Living Sydney is running a team in the upcoming local coun
 cil elections for the City of Sydney and we are holding meetings of co
 mmunity members throughout the city in the next few weeks. The purpose
  of these meetings is to hear of your local problems and meet our Lord
  Mayoral candidate\, Angela Vithoulkas and our team. This Wednesday 18
  July we are holding a meeting at Redfern Town Hall between 6.30-8.30p
 m and we are hoping that you\, your members and friends will be able t
 o attend.
LOCATION:Redfern Town Hall\, 73 Pitt St\, Redfern
PRIORITY:3
TRANSP:0
END:VEVENT
END:VCALENDAR
