BEGIN:VCALENDAR
PRODID:-//AT Content Types//AT Event//EN
VERSION:2.0
METHOD:PUBLISH
BEGIN:VEVENT
DTSTAMP:20260423T081747Z
CREATED:20120801T050738Z
UID:ATEvent-37b5c014fbab119dc57827e2a5e22d0e
LAST-MODIFIED:20120803T233105Z
SUMMARY:Greens Protest on North Eveleigh "Enterprise Zone"
DTSTART:20120804T153000Z
DTEND:20120804T163000Z
DESCRIPTION:The NSW Government Green Paper on the Planning Reforms use
 s North Eveleigh as an example of a proposed "Enterprise Zone". Hear G
 reens Planning Spokesperson David Shoebridge\, City of Sydney Greens C
 ouncillor Irene Douthney and Greens Heffron candidate Mehreen Farugi r
 aise the Greens concerns at this protest.
LOCATION:On Wlison Street outside Eveleigh Markets\, 245 Wilson Street\, Eveleigh
CONTACT:Irene Dountney\, idoutney@cityofsydney.nsw.gov.au
CLASS:PUBLIC
END:VEVENT
END:VCALENDAR
