BEGIN:VCALENDAR
PRODID:-//AT Content Types//AT Event//EN
VERSION:1.0
BEGIN:VEVENT
DTSTART:20120811T150000Z
DTEND:20120811T171000Z
DCREATED:20120801T091545Z
UID:ATEvent-04dd327c9579588d27cfe20d9c07ae08
SEQUENCE:0
LAST-MODIFIED:20120801T091601Z
SUMMARY:Waterloo Youth\, Family & Community Centre Launch - 11 Aug 2012
DESCRIPTION:You are invited to the official opening of the revitalised
  Waterloo Youth\, Family and Community Centre
LOCATION:Corner Elizabeth Street & McEvoy St Waterloo
PRIORITY:3
TRANSP:0
END:VEVENT
END:VCALENDAR
