BEGIN:VCALENDAR
PRODID:-//AT Content Types//AT Event//EN
VERSION:1.0
BEGIN:VEVENT
DTSTART:20120816T220000Z
DTEND:20120817T000000Z
DCREATED:20120730T004718Z
UID:ATEvent-cb52893d0f7fa35472f139ed32325a14
SEQUENCE:0
LAST-MODIFIED:20120815T014804Z
SUMMARY:REDWatch City of Sydney Council Mayoral Candidates forum - 16 Aug 6pm
DESCRIPTION:REDWatch will hold a City of Sydney Council meet the Mayor
 al Candidates forum on Thursday 16th August 2012 at 6pm at the Factory
  and we have invited the candidates or their nominee to attend.
LOCATION:The Factory Community Centre\, 67 Raglan Street Waterloo
PRIORITY:3
TRANSP:0
END:VEVENT
END:VCALENDAR
