BEGIN:VCALENDAR
PRODID:-//AT Content Types//AT Event//EN
VERSION:2.0
METHOD:PUBLISH
BEGIN:VEVENT
DTSTAMP:20260420T063524Z
CREATED:20111209T063752Z
UID:ATEvent-63e40de1b2e1bdf1960e20c15bb3b50c
LAST-MODIFIED:20111209T070558Z
SUMMARY:Redfern NAB Meeting - 11 September 2012
DTSTART:20120911T140000Z
DTEND:20120911T150000Z
DESCRIPTION:Neighbourhood Advisory Board (NAB) Meeting for NAB Represe
 ntatives. The Housing Standards meetings for Redfern are held one hour
  before each NAB at 9am.
LOCATION:Our Place\, Poets Corner Shops Morehead Street
CONTACT:Edith Olivares 9698 9569 or David 9698 6558\, eolivares@the-factory.org.au
CLASS:PUBLIC
END:VEVENT
END:VCALENDAR
