BEGIN:VCALENDAR
PRODID:-//AT Content Types//AT Event//EN
VERSION:2.0
METHOD:PUBLISH
BEGIN:VEVENT
DTSTAMP:20260420T182506Z
CREATED:20121017T092256Z
UID:ATEvent-556a134bfd9edf9b6773a132ed760531
LAST-MODIFIED:20121113T115612Z
SUMMARY:Ron Hoenig Heffrom Community Forum
DTSTART:20121019T180000Z
DTEND:20121019T200000Z
DESCRIPTION:Meet the new Member for Heffron - Ron Hoenig MP at the Wat
 erloo Housing NSW Tenants Community Forum on Friday\, 19 October 2012 
 2 pm until 4 pm. Other issues include • Housing NSW issues and initi
 atives • Policing and Crime Prevention • Question time
LOCATION:The Factory Community Centre\, 67 Raglan Street Waterloo
CATEGORIES:Meeting
CONTACT:96998166\, heffron@parliament.nsw.gov.au
CLASS:PUBLIC
END:VEVENT
END:VCALENDAR
