BEGIN:VCALENDAR
PRODID:-//AT Content Types//AT Event//EN
VERSION:2.0
METHOD:PUBLISH
BEGIN:VEVENT
DTSTAMP:20260420T183001Z
CREATED:20121102T004447Z
UID:ATEvent-cde6e3a90fc13ffdf005bd2d356e803f
LAST-MODIFIED:20121102T004521Z
SUMMARY:HNSW Info Session for Community Workers
DTSTART:20121108T150000Z
DTEND:20121108T163000Z
DESCRIPTION:Housing NSW Information Session Inviting local community w
 orkers to join an information session on the current: Housing NSW Path
 ways process and Temporary Accommodation process Followed by Q&A sessi
 on
LOCATION:The Factory Community Centre 67 Raglan Street\, Waterloo 2017
CONTACT:Laura at The Factory Community Centre\, (02) 9698 9569
CLASS:PUBLIC
END:VEVENT
END:VCALENDAR
