BEGIN:VCALENDAR
PRODID:-//AT Content Types//AT Event//EN
VERSION:2.0
METHOD:PUBLISH
BEGIN:VEVENT
DTSTAMP:20260425T115122Z
CREATED:20111209T063752Z
UID:ATEvent-d82a67c33c2de33a021e72f3668393c4
LAST-MODIFIED:20111215T073302Z
SUMMARY:RedWater Markets - Redfern Park - 15 Dec
DTSTART:20121215T130000Z
DTEND:20121215T210000Z
DESCRIPTION:Come to RedWater Markets and look at our selection of Seco
 nd-hand clothes\, books\, recycled goods\, flowers/plants\, food\, han
 d-made goods and support The Factory Community Centre.
LOCATION:Redfern Park corner of Chalmers & Redfern St Redfern
CONTACT:Edith Olivares\, 9698 9569\, eolivares@the-factory.org.au
CLASS:PUBLIC
END:VEVENT
END:VCALENDAR
