BEGIN:VCALENDAR
PRODID:-//AT Content Types//AT Event//EN
VERSION:2.0
METHOD:PUBLISH
BEGIN:VEVENT
DTSTAMP:20260422T055035Z
CREATED:20130204T042007Z
UID:ATEvent-f476727ddd8c4a2ab40b3ad54b4fb919
LAST-MODIFIED:20130204T042646Z
SUMMARY:REDWatch Meeting with UrbanGrowth
DTSTART:20130207T230000Z
DTEND:20130208T010000Z
DESCRIPTION:REDWatch will kick off our 2013 meetings with a presentati
 on from UrbanGrowth NSW about the new organisation and the role of the
  former SMDA now UrbanGrowth Development Corporation (UGDC). This will
  be at the Factory 67 Raglan Street Waterloo at 6pm Thursday 7th Febru
 ary. REDWatch Meets on the first Thursday of the month except January.
 
LOCATION:The Factory Community Centre\, 67 Raglan Street Waterloo
CONTACT:Geoff Turnbull\, (02) 8004 1490\, mail@redwatch.org.au
CLASS:PUBLIC
END:VEVENT
END:VCALENDAR
