BEGIN:VCALENDAR
PRODID:-//AT Content Types//AT Event//EN
VERSION:2.0
METHOD:PUBLISH
BEGIN:VEVENT
DTSTAMP:20260423T055034Z
CREATED:20130306T061944Z
UID:ATEvent-600c5f525e274070ba0fac7cd81f3376
LAST-MODIFIED:20130306T062842Z
SUMMARY:Good Neighbourhood BBQ - Waterloo Green - 20 Mar 13
DTSTART:20130320T150000Z
DTEND:20130320T180000Z
DESCRIPTION:Join us. Come along\, get to know your neighbours\, local 
 Police and City staff. The City of Sydney and NSW Police are hosting a
  series of Good Neighbourhood BBQs in your area. The get togethers wil
 l feature Australian wildlife displays\, children’s activities\, a f
 ree BBQ\, live music and information on local safety and security init
 iatives.
LOCATION:Waterloo Green Cnr Raglan/Cope/Phillip Sts Waterloo
CONTACT:02 9265 9333
URL:http://whatson.cityofsydney.nsw.gov.au
CLASS:PUBLIC
END:VEVENT
END:VCALENDAR
