BEGIN:VCALENDAR
PRODID:-//AT Content Types//AT Event//EN
VERSION:1.0
BEGIN:VEVENT
DTSTART:20130326T110000Z
DTEND:20130328T020000Z
DCREATED:20130306T203447Z
UID:ATEvent-4ddd1a1c03ec42c5a2e124b2bdbde908
SEQUENCE:0
LAST-MODIFIED:20130325T055152Z
SUMMARY:Sydney Uni Strike & Pickets
DESCRIPTION:On Tuesday March 26 and Wednesday March 27 members of the 
 National Tertiary Education Union will be taking industrial action at 
 the University of Sydney\, with a 48 hour strike.
LOCATION:Picket on Entrances to Sydney UNiversity
PRIORITY:3
TRANSP:0
END:VEVENT
END:VCALENDAR
