BEGIN:VCALENDAR
PRODID:-//AT Content Types//AT Event//EN
VERSION:2.0
METHOD:PUBLISH
BEGIN:VEVENT
DTSTAMP:20260423T055014Z
CREATED:20130312T003019Z
UID:ATEvent-83df3ff9562b4cd6ae1fdb75e194ab77
LAST-MODIFIED:20130327T085423Z
SUMMARY:Lord Mayor Public Housing Forums in Waterloo - 3 April
DTSTART:20130403T143000Z
DTEND:20130403T153000Z
LOCATION:The Factory Community Centre\, 67 Raglan Street\, Waterloo NSW 2017
CONTACT:Laura Kelly\, 9698 9569\, lkelly@the-factory.org.au
CLASS:PUBLIC
END:VEVENT
END:VCALENDAR
