BEGIN:VCALENDAR
PRODID:-//AT Content Types//AT Event//EN
VERSION:1.0
BEGIN:VEVENT
DTSTART:20130425T173000Z
DTEND:20130425T203000Z
DCREATED:20130425T014944Z
UID:ATEvent-623d7183fffa4aa9a81fbaca9c5bd032
SEQUENCE:0
LAST-MODIFIED:20130425T015127Z
SUMMARY:Redfern Coloured Digger ANZAC Commemoration
DESCRIPTION:The Redfern Commemoration is held in the early afternoon s
 o people can participate in the main Sydney march and other local ANZA
 C Day events elsewhere. The Program is as follows:\n• 1:35pm: Welcom
 e to Country and Redfern Park War Memorial wreath laying\n• 1:45pm: 
 Procession to Redfern Community Centre\n• 2:15pm: Commemorative serv
 ice at Redfern Community Centre\n• 3.00pm: Entertainment\n• 4:30pm
 : Close
LOCATION:Redfern Park Memorial then march to Redfern Community Centre
PRIORITY:3
TRANSP:0
END:VEVENT
END:VCALENDAR
