BEGIN:VCALENDAR
PRODID:-//AT Content Types//AT Event//EN
VERSION:2.0
METHOD:PUBLISH
BEGIN:VEVENT
DTSTAMP:20260422T103809Z
CREATED:20130204T042007Z
UID:ATEvent-8999545fe75e44cabf183e7a0a9bbf5b
LAST-MODIFIED:20130502T044308Z
SUMMARY:REDWatch Monthly Meeting - Roundtable on Social Division and Community Unity - 2 May 6pm
DTSTART:20130502T220000Z
DTEND:20130503T000000Z
DESCRIPTION:This Roundtable Discussion is Exploring the Impact of Gent
 rification on Social Division and Community Unity. REDWatch Meets on t
 he first Thursday of the month except January.
LOCATION:The Factory Community Centre\, 67 Raglan Street Waterloo
CONTACT:Geoff Turnbull\, (02) 8004 1490\, mail@redwatch.org.au
CLASS:PUBLIC
END:VEVENT
END:VCALENDAR
