BEGIN:VCALENDAR
PRODID:-//AT Content Types//AT Event//EN
VERSION:2.0
METHOD:PUBLISH
BEGIN:VEVENT
DTSTAMP:20260423T043411Z
CREATED:20130610T063830Z
UID:ATEvent-f97ddcfe4157438ca5a5c84d83a24c7a
LAST-MODIFIED:20130610T063901Z
SUMMARY:Greens Community Forum on Planning Reforms – Wed 12 June\, Erskineville
DTSTART:20130612T223000Z
DTEND:20130613T000000Z
DESCRIPTION:Join Marrickville and South Sydney Greens on Wednesday 12 
  June 2013 for a public forum about the State Government’s plans to 
 radically overhaul the State’s planning laws. Hosted by: Marrickvill
 e Councillor Sylvie Ellsmore (Wali-North Ward) and City of Sydney Coun
 cillor Irene Doutney.
LOCATION:Erskineville Town Hall\, Erskineville Rd
URL:http://marrickvillegreens.wordpress.com/2013/06/06/community-forum-on-planning-reforms-wed-12-june-erskineville/
CLASS:PUBLIC
END:VEVENT
END:VCALENDAR
