BEGIN:VCALENDAR
PRODID:-//AT Content Types//AT Event//EN
VERSION:2.0
METHOD:PUBLISH
BEGIN:VEVENT
DTSTAMP:20260421T085622Z
CREATED:20131203T075055Z
UID:ATEvent-d826ccfa45824a57b39d0401e9bf0626
LAST-MODIFIED:20131203T075117Z
SUMMARY:REDWatch End of Year Function - Dec 12th Alexandria Hotel 5.30 pm for 6pm
DTSTART:20131212T223000Z
DTEND:20131213T030000Z
DESCRIPTION:Join some of the people involved in REDWatch at the Alexan
 dria Hotel to celebrate the end of another year. You can just purchase
  our own refreshment’s and catch up before the year ends…
LOCATION:Alexandria Hotel beer garden
CONTACT:Geoffrey Turnbull\, 8004 1490\, mail@redwatch.org.au
CLASS:PUBLIC
END:VEVENT
END:VCALENDAR
