BEGIN:VCALENDAR
PRODID:-//AT Content Types//AT Event//EN
VERSION:2.0
METHOD:PUBLISH
BEGIN:VEVENT
DTSTAMP:20260420T181544Z
CREATED:20081121T233715Z
UID:ATEvent-0c4db607563b71d9b2831c635934311f
LAST-MODIFIED:20081121T233823Z
SUMMARY:16 DAYS of AWARENESS of DOMESTIC VIOLENCE
DTSTART:20081126T233000Z
DTEND:20081127T033000Z
DESCRIPTION:Inner City Domestic Violence Action Group\, Redfern Legal 
 Centre\, Mudgin-gal Women's Centre and City of Sydney awareness day is
  at Redfern Park\nActivities include live entertainment\, a free BBQ l
 unch\, information stalls\, kids activities\, guest speakers and white
  ribbon workshops. \nThe white ribbons are a sign that the wearer beli
 eves that violence towards women is unacceptable.
LOCATION:Redfern Park
CATEGORIES:Meeting
CONTACT:9265 9333
CLASS:PUBLIC
END:VEVENT
END:VCALENDAR
