BEGIN:VCALENDAR
PRODID:-//AT Content Types//AT Event//EN
VERSION:1.0
BEGIN:VEVENT
DTSTART:20161201T070000Z
DTEND:20161201T090000Z
DCREATED:20161130T220335Z
UID:ATEvent-67d6ae1c389f44d2a229b7786c0d6c20
SEQUENCE:0
LAST-MODIFIED:20161130T220354Z
SUMMARY:REDWatch Meeting - How are Affordable Housing Models Working Overseas - 6pm 1 Dec
DESCRIPTION:With advocates and opponents debating NSW affordable housi
 ng\, two guest speakers with expertise in affordable housing discuss h
 ow other countries provide solutions. We will also be hosting a BYO Ch
 ristmas party following the meeting so please bring along your nibbles
  and refreshments to share.
LOCATION:Factory Community Centre 67 Raglan Street Waterloo
PRIORITY:3
TRANSP:0
END:VEVENT
END:VCALENDAR
