BEGIN:VCALENDAR
PRODID:-//AT Content Types//AT Event//EN
VERSION:2.0
METHOD:PUBLISH
BEGIN:VEVENT
DTSTAMP:20260426T022726Z
CREATED:20180519T055201Z
UID:ATEvent-5f24e48eb68d40279a1aa1690ce6fc4b
LAST-MODIFIED:20180611T052938Z
SUMMARY:REDWatch Meeting on Metro Quarter - 6pm Thurs 7 June 2018
DTSTART:20180607T080000Z
DTEND:20180607T094000Z
DESCRIPTION:This is an opportunity to hear UrbanGrowth present about t
 heir master plan proposal for the Waterloo Metro Quarter and to ask yo
 ur questions.
LOCATION:Factory Community Centre\, 67 Raglan Street\, Waterloo
CONTACT:Geoffrey Turnbull\, (02) 8004 1490\, mail@redwatch.org.au
CLASS:PUBLIC
END:VEVENT
END:VCALENDAR
