BEGIN:VCALENDAR
PRODID:-//AT Content Types//AT Event//EN
VERSION:2.0
METHOD:PUBLISH
BEGIN:VEVENT
DTSTAMP:20260422T192555Z
CREATED:20180611T053635Z
UID:ATEvent-3874a340443b420e8da3a52f4e827050
LAST-MODIFIED:20180611T053705Z
SUMMARY:Locomotive Workshop - Response to Submissions – Design Updates Information Session
DTSTART:20180711T073000Z
DTEND:20180711T090000Z
DESCRIPTION:Mirvac would like to invite you to a drop in session that 
 will be open from 5:30pm – 7pm on Wednesday 11th July.
LOCATION:Mirvac Site Office\, Bay 7\, 2 Locomotive Street\, Eveleigh
CONTACT:Kim Elliott\, +61 2 9080 8125    \, atp.communications@mirvac.com
CLASS:PUBLIC
END:VEVENT
END:VCALENDAR
