BEGIN:VCALENDAR
PRODID:-//AT Content Types//AT Event//EN
VERSION:2.0
METHOD:PUBLISH
BEGIN:VEVENT
DTSTAMP:20260421T113707Z
CREATED:20190112T015228Z
UID:ATEvent-75652455e0ff4de19ddc5dab417611e0
LAST-MODIFIED:20190926T000350Z
SUMMARY:Council Planning for Growth: What does it mean for Redfern and Waterloo? and REDWatch AGM
DTSTART:20191003T080000Z
DTEND:20191003T100000Z
DESCRIPTION:Benjamin Pechey A/Executive Manager Strategic Planning & U
 rban Design at the City of Sydney will talk about Council’s strategi
 c plans for accommodating growth in the City of Sydney. The plans are 
 currently on exhibition.
LOCATION:Factory Community Centre\, 67 Raglan Street Waterloo
CONTACT:Geoff Turnbull\, (02) 8004 1490\, mail@redwatch.org.au
CLASS:PUBLIC
END:VEVENT
END:VCALENDAR
