BEGIN:VCALENDAR
PRODID:-//AT Content Types//AT Event//EN
VERSION:1.0
BEGIN:VEVENT
DTSTART:20191015T020000Z
DTEND:20191015T050000Z
DCREATED:20191002T113849Z
UID:ATEvent-016baa35072447c0b47ee2f36f8fcfee
SEQUENCE:0
LAST-MODIFIED:20200202T064724Z
SUMMARY:Redfern - 600-660 Elizabeth St (near PCYC) - Build to Rent consultation - 15 October 2019 - Poets Corner
DESCRIPTION:Communities Plus\, part of the NSW NSW Government plans to
  build a new housing project to accommodate a mixed community with new
  social\, affordable and market rental housing opposite Redfern Park a
 t 600-660 Elizabeth Street Redfern. You are invited to learn more abou
 t the project.
LOCATION:Poets Corner\, 45 Morehead Street
PRIORITY:3
TRANSP:0
END:VEVENT
END:VCALENDAR
