BEGIN:VCALENDAR
PRODID:-//AT Content Types//AT Event//EN
VERSION:2.0
METHOD:PUBLISH
BEGIN:VEVENT
DTSTAMP:20260422T203935Z
CREATED:20220407T053049Z
UID:ATEvent-5f972964a9c94ccda77ce0e4fbf8203a
LAST-MODIFIED:20220407T053102Z
SUMMARY:REDWatch Meeting Today 7 April 6pm - The Mood: Thoughts\, Issues and Possible Responses to the Waterloo South Planning Proposal.
DTSTART:20220407T080000Z
DTEND:20220407T093000Z
DESCRIPTION:The meeting will hear an online update by Peter John Cantr
 ell from the City of Sydney on Council’s recent analysis of the prop
 osal\, including that the proposal is bigger than disclosed by DPE (se
 e later in this update). There will also be an update of community res
 ponses and the emerging issues. A panel will try to encourage discussi
 on\, answer questions and suggest areas for submissions to cover.
LOCATION:The Factory Community Centre 67 Raglan Street Waterloo
CONTACT:Geoff Turnbull\, (02)80041490\, mail@redwatch.org.au
CLASS:PUBLIC
END:VEVENT
END:VCALENDAR
