BEGIN:VCALENDAR
PRODID:-//AT Content Types//AT Event//EN
VERSION:1.0
BEGIN:VEVENT
DTSTART:20230907T080000Z
DTEND:20230907T093000Z
DCREATED:20230904T063458Z
UID:ATEvent-8d94b483b3d544198c07057e2f25d20a
SEQUENCE:0
LAST-MODIFIED:20230904T063545Z
SUMMARY:Waterloo Public Housing Update – 6pm Thurs 7 September
DESCRIPTION:The NSW Government has announced that the Waterloo South r
 edevelopment will proceed with an increased quantity of social and aff
 ordable housing. At the same time work is underway to create a new Hom
 es NSW agency and to overhaul a much criticised public housing mainten
 ance system. The REDWatch meeting on Thursday 7th September at 6pm wil
 l provide an update on all these changes proposed by the new NSW Gover
 nment.
LOCATION:Factory Community Centre\, 67 Raglan Street\, Waterloo
PRIORITY:3
TRANSP:0
END:VEVENT
END:VCALENDAR
