BEGIN:VCALENDAR
PRODID:-//AT Content Types//AT Event//EN
VERSION:2.0
METHOD:PUBLISH
BEGIN:VEVENT
DTSTAMP:20260419T192914Z
CREATED:20240328T003438Z
UID:ATEvent-5585b5b0fe4842f5b2ae38e36d34fc8f
LAST-MODIFIED:20240328T082143Z
SUMMARY:How should we plan for growth?
DTSTART:20240404T070000Z
DTEND:20240404T083000Z
DESCRIPTION:The NSW government wants to force councils to allow more h
 omes to be built around suburban centres\, railway stations and tram s
 tops. At this REDWatch meeting City of Sydney staff will respond to th
 at plan and discuss how they prefer to plan for growth.
LOCATION:Counterpoint’s Factory Community Centre\, 67 Raglan St Waterloo
CONTACT:Geoff Turnbull\, (02) 8004 1490\, mail@redwatch.org.au
URL:https://www.facebook.com/events/676712814503676
CLASS:PUBLIC
END:VEVENT
END:VCALENDAR
