BEGIN:VCALENDAR
PRODID:-//AT Content Types//AT Event//EN
VERSION:2.0
METHOD:PUBLISH
BEGIN:VEVENT
DTSTAMP:20260424T002427Z
CREATED:20250318T065743Z
UID:ATEvent-dec19e9e9a2e48f085ec4ff6ae829b41
LAST-MODIFIED:20250318T071158Z
SUMMARY:REDWatch Meeting on Waterloo Metro’s new plans – 27 March 6pm
DTSTART:20250327T070000Z
DTEND:20250327T083000Z
DESCRIPTION:REDWatch has had to move its April meeting forward a week 
 so we can get the relevant people from Mirvac / John Holland to presen
 t on their new plans for the Waterloo Metro Over Station Development. 
 These plans will increase overshadowing over the Waterloo Park to the 
 east of the Metro.
LOCATION:Counterpoint’s The Factory Community Centre\, 67 Raglan Street\, Waterloo\, 2017
CONTACT:Geoffrey Turnbull\, 80041490\, mail@redwatch.org.au
URL:https://www.facebook.com/photo/?fbid=1051788846977976&set=a.460968159393384%20.
CLASS:PUBLIC
END:VEVENT
END:VCALENDAR
