BEGIN:VCALENDAR
PRODID:-//AT Content Types//AT Event//EN
VERSION:2.0
METHOD:PUBLISH
BEGIN:VEVENT
DTSTAMP:20260422T182400Z
CREATED:20080805T004612Z
UID:ATEvent-5f8f245eb7188d55d2aebe0d14fdc0c7
LAST-MODIFIED:20080805T004626Z
SUMMARY:Action for Aboriginal rights
DTSTART:20080816T030000Z
DTEND:20080816T044500Z
DESCRIPTION:A speakout and concert is being organised to unite campaig
 ns for Aboriginal rights in Australia.
LOCATION:Redfern Community Centre
CONTACT:Greg\, 0432 050 240
CLASS:PUBLIC
END:VEVENT
END:VCALENDAR
