BEGIN:VCALENDAR
PRODID:-//AT Content Types//AT Event//EN
VERSION:1.0
BEGIN:VEVENT
DTSTART:20090429T130000Z
DTEND:20090429T203000Z
DCREATED:20090223T012929Z
UID:ATEvent-7afbf62e1a844cca4e1cb9b9666f46a9
SEQUENCE:0
LAST-MODIFIED:20090223T012946Z
SUMMARY:1-2-3 Magic & Emotion Training for Community Workers
DESCRIPTION:SDN Children's Services and Connect Redfern have organised
  for Parentshop to provide free training for community workers. To hel
 p manage aged children 2-12.\n\nRegistration closes 9th April
LOCATION:Alexandria Park Community Centre
PRIORITY:3
TRANSP:0
END:VEVENT
END:VCALENDAR
