BEGIN:VCALENDAR
PRODID:-//AT Content Types//AT Event//EN
VERSION:2.0
METHOD:PUBLISH
BEGIN:VEVENT
DTSTAMP:20260421T120638Z
CREATED:20080829T014337Z
UID:ATEvent-9ece1edbb66d3847a05090a4e0e807ab
LAST-MODIFIED:20081111T022658Z
SUMMARY:Family Day at the Block
DTSTART:20080830T023000Z
DTEND:20080830T060000Z
DESCRIPTION:Reclaim our people & community\n \nCome along and enjoy so
 me family time with ya kids and family\, hear some history \, share so
 me history,make a statement that black fullas are as strong & proud...
 ..
LOCATION:The Block
CATEGORIES:Social Event
CONTACT:Shane Phillips\, 9699 3491
URL:http://tribalwarrior.org
CLASS:PUBLIC
END:VEVENT
END:VCALENDAR
