BEGIN:VCALENDAR
PRODID:-//AT Content Types//AT Event//EN
VERSION:2.0
METHOD:PUBLISH
BEGIN:VEVENT
DTSTAMP:20260423T013359Z
CREATED:20090409T045727Z
UID:ATEvent-36ad0293e1a804060f8391937af7f964
LAST-MODIFIED:20090409T045735Z
SUMMARY:Buddhist New Year Lunch The 5th Anniversary Thingyan Festival
DTSTART:20090417T200000Z
DTEND:20090417T220000Z
DESCRIPTION:Mabel Chang’s \n\nBuddhist New Year Lunch\n\nYou are cor
 dially invited to enjoy a free\, delicious Asian Style lunch to celebr
 ate the Buddhist New Year – Thingyan – Festival.\nAll welcome.\n\n
 \n\n\n \n\nTime: 4.00pm – 6.00pm
LOCATION:Waterloo Neighbourhood Centre Shop5/95 Wellington St.\, Waterloo
CATEGORIES:Social Event
CONTACT:Mabel Chang
CLASS:PUBLIC
END:VEVENT
END:VCALENDAR
