BEGIN:VCALENDAR
PRODID:-//AT Content Types//AT Event//EN
VERSION:1.0
BEGIN:VEVENT
DTSTART:20100626T020000Z
DTEND:20100626T060000Z
DCREATED:20100620T033407Z
UID:ATEvent-a118accd825df5e7326caa349d1170cc
SEQUENCE:0
LAST-MODIFIED:20100623T003621Z
SUMMARY:Family and Culture Day- Reonciliation through Social Justice
DESCRIPTION:Family and Culture Day\, a grassroots community oriented d
 rug and alcohol free event\, is at The Block in Redfern. The aim of th
 is event\, which takes place on the last Saturday of each month\, is t
 o bring families back to The Block and to show off the incredible tale
 nt within the Redfern Indigenous community. This month Janawi\, UDC Cr
 ew\, Nellie Dargan\, comedian Sonny and magician Anthony. with Allara\
 , YungNooky\, Howlin Funk\, Black Turtles and Michael Donovan.
LOCATION:The Block in Redfern
PRIORITY:3
TRANSP:0
END:VEVENT
END:VCALENDAR
