BEGIN:VCALENDAR
PRODID:-//AT Content Types//AT Event//EN
VERSION:1.0
BEGIN:VEVENT
DTSTART:20081015T080000Z
DTEND:20081015T090000Z
DCREATED:20081013T100129Z
UID:ATEvent-3cce53aba2da143900fec13007c29030
SEQUENCE:0
LAST-MODIFIED:20081013T100129Z
SUMMARY:Friends of Erskineville Village Meeting
DESCRIPTION:To discuss
LOCATION:The Holy Trinity Church\, Cnr Erskineville Road & Rochford St
PRIORITY:3
TRANSP:0
END:VEVENT
END:VCALENDAR
