BEGIN:VCALENDAR
PRODID:-//AT Content Types//AT Event//EN
VERSION:2.0
METHOD:PUBLISH
BEGIN:VEVENT
DTSTAMP:20260422T234533Z
CREATED:20090821T022945Z
UID:ATEvent-3f4e26a025d2c8482c2c389762ee993a
LAST-MODIFIED:20090821T024227Z
SUMMARY:Civilising the Natives
DTSTART:20090801T040000Z
DTEND:20090828T040000Z
DESCRIPTION:An exhibition of paintings for sale by Gordon Syron\, a Pi
 oneer of Aboriginal Art. \n\nOpen Tuesday to Friday 4:30 to 6:30pm. Ot
 her times by appointment with Gordon. ph 0421 031 392.
LOCATION:South Sydney Uniting Church\, 56 Raglan St Waterloo
CATEGORIES:Exhibition
CONTACT:Godon Syron\, 0421 031 392\, elainesyron@hotmail.com
URL:http://www.blackfellasdreaming.com.au
CLASS:PUBLIC
END:VEVENT
END:VCALENDAR
