BEGIN:VCALENDAR
PRODID:-//AT Content Types//AT Event//EN
VERSION:1.0
BEGIN:VEVENT
DTSTART:20100623T040000Z
DTEND:20100623T060000Z
DCREATED:20100410T085330Z
UID:ATEvent-eb425f9a24408c7f11ced3937fe02b69
SEQUENCE:0
LAST-MODIFIED:20100410T085339Z
SUMMARY:South Sydney FORMAL INTER-Agency meeting
DESCRIPTION:Formal information sharing\, joint planning and discussion
  between local agencies and community groups hosted by Inner Regional 
 Council for Social Development.
LOCATION:Redfern Town Hall.
PRIORITY:3
TRANSP:0
END:VEVENT
END:VCALENDAR
