BEGIN:VCALENDAR
PRODID:-//AT Content Types//AT Event//EN
VERSION:1.0
BEGIN:VEVENT
DTSTART:20101027T030000Z
DTEND:20101027T050000Z
DCREATED:20100410T085655Z
UID:ATEvent-9813893947dfa1d6039a2073e6ca3dc5
SEQUENCE:0
LAST-MODIFIED:20100410T085655Z
SUMMARY:South Sydney FORMAL INTER-Agency meeting
DESCRIPTION:Formal information sharing\, joint planning and discussion
  between local agencies and community groups hosted by Inner Regional 
 Council for Social Development.
LOCATION:Redfern Town Hall.
PRIORITY:3
TRANSP:0
END:VEVENT
END:VCALENDAR
